Workbook

Sheet Explications
B2: Calcul du salaire de l'apprentissage agricole
B4: Le présent document permet de calculer le salaire de l'apprentissage agricole.
A6: Phase 1 : | B6: Onglet de saisie
B8: L'onglet de saisie permet d'indiquer toutes les informations nécessaires en 4 étapes :
B10: F | C10: Données de bases
B11: F | C11: Salaire brut
B12: F | C12: Déductions
B13: F | C13: Indemnités de pension
B15: A chaque étape, les plages surlignées en gris permettent d'introduire ou de
B16: modifier les informations. La plage surlignée en violet (salaire) doit impérativement
B17: être saisie.
B18: Pour chaque étape, un commentaire comprenant des précisions détaillées apparaît
B19: lorsque l'on approche la souris du nom de l'étape ("données de base", etc.)
B20: Attention, plusieurs critères sont définis d'avance, veillez donc à vérifier qu'ils
B21: correspondent bien à la réalité de votre situation.
A23: Phase 2 : | B23: Impression
B25: L'onglet "décompte salaire" reprend les données indiquées et propose une fiche
B26: de salaire à imprimer (une version allemande se trouve dans l'onglet "Lohnabrechnung").
B27: Attention, en fonction de l'imprimante utilisée, les options d'impressions doivent être à
B28: nouveau paramètrées pour que tout sorte sur une page.
B30: Remarque
B32: L'onglet "libre" (et son équivalent "frei" en allemand) permet de remplir le salaire
B33: sans passer par l'onglet de saisie.

Sheet Saisie
A1: Données de base | F1: En approchant la souris du coin rouge (présent sur chaque titre de rubrique), | P1: En vert, case à options | R1: En jaune, données de référence
F2: des informations détaillées apparaissent ! | R2: Salaire
B3: Année de formation | R3: Horaire | S3: mensuel | T3: 6.5 mois | U3: annuel
C4: 1ère année | P4: 4 | Q4: 1ère | R4: ='Base de données'!B14 -> 7 | S4: =U4/12 -> 715.90909 | U4: =IF(P$7=1,R4*S9*L9,R4*S10*L9) -> 8590.9091
C5: 2ème année | E5: Vacances | I5: Payement du salaire | L5: Canton | P5: 2 | Q5: 2ème | R5: ='Base de données'!B15 -> 8 | S5: =U5/12 -> 818.18182 | U5: =IF(P$7=1,R5*S9*L9,R5*S10*L9) -> 9818.1818
C6: 3ème année variante A | F6: 4 semaines (> 20 ans) | J6: sur 12 mois | M6: BE | P6: 1 | Q6: 3ème A | R6: ='Base de données'!B16 -> 9 | S6: =U6/12 -> 920.45455 | T6: =U6/6.5 -> 1699.3007 | U6: =IF(P$7=1,R6*S9*L9,R6*S10*L9) -> 11045.455
C7: 3ème année variante B | F7: 5 semaines (< 20 ans) | J7: sur 6.5 mois | M7: JU | P7: 2 | Q7: 3ème B | R7: =R6 -> 9 | S7: =U7/12 -> 920.45455 | T7: =U7/6.5 -> 1699.3007 | U7: =IF(P$7=1,R7*S9*L9,R7*S10*L9) -> 11045.455
B9: Variante A : l'apprenti ne travaille pas sur l'exploitation durant le cours bloc | K9: Jours de travail par année : | L9: =U9 -> 135 | R9: Heures/ jour BE | S9: ='Base de données'!B20 -> 10 | T9: Jours /an | U9: =IF(P4<=2,IF(P5=1,220.5,215),IF(P4=3,IF(P5=1,130.5,125),IF(P5=1,140.5,135))) -> 135
B10: Variante B : l'apprenti effectue 1/2 jour de travail par semaine durant le cours bloc | R10: Heures/ jour JU | S10: ='Base de données'!B21 -> 9.0909091
A12: Calcul du salaire brut | I12: Aide de calcul à partir d'un salaire brut | R12: 1 | S12: 2 | T12: 3 | U12: 4
I13: Salaire | K13: souhaité de | N13: 12300 | P13: 4 | Q13: horaire | R13: =N13 -> 12300 | S13: =S17/L9/IF(P7=1,S9,S10) -> 65.144444 | T13: =T17/L9/IF(P7=1,S9,S10) -> 120.26667 | U13: =U17/L9/IF(P7=1,S9,S10) -> 10.022222
A14: Salaire indicatif | F14: Directives JU/JB | Q14: mensuel (/ 6.5) | R14: =IF(P4<=2,"",R17/6.5) -> 2322377.6 | S14: =N13 -> 12300 | T14: =IF(P4<=2,"",T17/6.5) -> 22707.692 | U14: =IF(P4<=2,"",U17/6.5) -> 1892.3077
Q15: mensuel (/ 12)
A16: Par heure | D16: =IF(P4=1, R4, IF(P4=2, R5, IF(P4 =3, R6, R7))) -> 9 | I16: Par heure | K16: =IF(P13=1,R13,IF(P13=2,S13,IF(P13=3,T13,U13))) -> 10.022222 | L16: par an | N16: =IF(P13=1,R17,IF(P13=2,S17,IF(P13=3,T17,U17))) -> 12300 | Q16: annuel | R16: =R17/12 -> 1257954.5 | S16: =S17/12 -> 6662.5 | T16: =N13 -> 12300 | U16: =U17/12 -> 1025
A17: =IF(P4<=2, "Par mois",IF(P6=1,"Par mois","P. mois (/ 6.5 !)")) -> Par mois | D17: =IF(P4=1,S4,IF(P4=2,S5,IF(P4=3,IF(P6=1,S6,T6),IF(P4=4,IF(P6=1,S7,T7))))) -> 920.45455 | F17: =IF(P4=1,"1'100.- à 1'350.-",IF(P4=2, "1'250.- à 1'500.-","")) | I17: Par mois (6.5) | K17: =IF(P13=1,R14,IF(P13=2,S14,IF(P13=3,T14,U14))) -> 1892.3077 | L17: m. (12) | N17: =IF(P13=1,R16,IF(P13=2,S16,IF(P13=3,T16,U16))) -> 1025 | R17: =R13*L9*IF(P7=1,S9,S10) -> 15095455 | S17: =S14*6.5 -> 79950 | T17: =T16*12 -> 147600 | U17: =N13 -> 12300
A18: Par année | D18: =IF(P4=1,U4,IF(P4=2,U5,IF(P4=3,U6,U7))) -> 11045.455 | F18: =IF(P4>=3,"11'500.- à 13'100.-","") -> 11'500.- à 13'100.-
I19: Aide de calcul à partir d'un salaire net | P19: =E33 -> 533.07692 | Q19: Salaire en nature | R19: =IF(P28=1,IF(Q28=1,IF(R28=1,(1-U19-U20-U21),(1-U19-U20)),IF(R28=1,(1-U19-U21),(1-U19))),IF(Q28=1,IF(R28=1,(1-U20-U21),(1-U20)),IF(R28=1,(1-U21),1))) -> 0.936 | S19: Déductions | T19: AVS | U19: =IF(P7=1,'Base de données'!C5%+'Base de données'!C4%,'Base de données'!E5%+'Base de données'!E4%) -> 0.064
A20: Salaire retenu | D20: 1025 | E20: =IF(P4<=2, " par mois (/ 12)",IF(P6=1," par mois (/ 12)"," par mois (/ 6.5 !)")) -> par mois (/ 12) | I20: Salaire mensuel net souhaité de | P20: =E34 -> 130.79167 | Q20: Indemnités de pension | T20: Accident | U20: =IF(P7=1,'Base de données'!C6%,'Base de données'!E6%) -> 0.01681
P21: =N28 -> 0 | Q21: Divers | T21: IMJ | U21: =IF(P7=1,'Base de données'!C7%,'Base de données'!E7%) -> 0.0044
B22: =IF(D20>='Base de données'!B31/12,"Attention, une cotisation au 2ème pilier devra être versée !","") | I22: Salaire brut | K22: =IF(ISNUMBER(N20)=TRUE,(N20+P19+P21-P20)/R19,"") | L22: par mois
B24: =IF(D20>='Base de données'!B31/12,"Les calculs présentés doivent donc être adaptés !","") | I24: =IF(ISNUMBER(N20)=TRUE,"Attention, le salaire brut est calculé en fonction des données de bases, des déductions ainsi que des indemnités de pensions indiqués dans la présente feuille de calcul !","")
A25: Déductions
B27: Cotisations AVS | E27: Assurance accidents | I27: Assurance IJM | N27: Divers
C28: oui | F28: oui | J28: oui | P28: 1 | Q28: 2 | R28: 2
C29: non | F29: non | J29: non
I30: IJM = Indemintés Journalières en cas de Maladie
A31: Calcul des indemnités de pension
B33: Salaire en nature | E33: =IF(P37=1,IF(P4>=3,P33,'Base de données'!B24),IF(P4<=2,SUM(V67:V75)/12,IF(P6=1,SUM(V67:V75)/12,SUM(V67:V75)/(28*7/30)))) -> 533.07692 | G33: =IF(P4<=2, " par mois (/ 12)",IF(P6=1," par mois (/ 12)"," par mois (/ 6.5 !)")) -> par mois (/ 12) | P33: =IF(P4=3,IF(P6=1,'Base de données'!B24*28/52,'Base de données'!B24),IF(Q37=1,IF(P6=1,'Base de données'!B24*28/52,'Base de données'!B24),IF(P6=1,'Base de données'!B24,'Base de données'!B24*52/28))) -> 533.07692
B34: Indemnités de pension | E34: =IF(P37=1,IF(P4<=2,V64/12,IF(P6=1,V64/12,V64/(12*28/52))),0) -> 130.79167 | G34: =IF(P4<=2, " par mois (/ 12)",IF(P6=1," par mois (/ 12)"," par mois (/ 6.5 !)")) -> par mois (/ 12)
B36: Variante retenue | I36: Complément var. 3B
C37: l'apprenti loge sur place (toujours présent sauf…) | J37: Loge 6.5 mois | P37: 1 | Q37: 1
C38: l'apprenti ne loge pas sur place, mais consomme… | J38: Loge 12 mois
A41: Jours de congés | P41: =IF(P4<=2,IF(P5=1," 22 jours"," 27.5 jours"),IF(P4=3,IF(P5=1," 5.5 jours"," 11 jours"),IF(Q37=2,IF(P5=1," 22 jours"," 27.5 jours"),IF(P5=1," 5.5 jours"," 11 jours")))) -> 11 jours | Q41: =IF(P4<=2,IF(P5=1,22,27.5),IF(P4=3,IF(P5=1,5.5,11),IF(Q37=2,IF(P5=1,22,27.5),IF(P5=1,5.5,11)))) -> 11
C43: =IF(A43="", " 0 vendredi", " vendredis") -> 0 vendredi | E43: petit-déjeuner | H43: repas de midi | K43: repas du soir | P43: FALSE | Q43: FALSE | R43: FALSE | S43: =IF(P43=TRUE,'Base de données'!B$25,0) -> 0 | T43: =IF(Q43=TRUE,'Base de données'!B$26,0) -> 0 | U43: =IF(R43=TRUE,'Base de données'!B$27,0) -> 0 | V43: =IF(A43="",0,A43*S43+A43*T43+A43*U43) -> 0
C44: =IF(A44="", IF(P4<=2, " 52 samedis 1", IF(P4=3, " 28 samedis 1", IF(Q37=1," 28 samedis 1"," 52 samedis 1"))), " samedis 1") -> 28 samedis 1 | E44: petit-déjeuner | H44: repas de midi | K44: repas du soir | P44: TRUE | Q44: TRUE | R44: TRUE | S44: =IF(P44=TRUE,'Base de données'!B$25,0) -> 3.5 | T44: =IF(Q44=TRUE,'Base de données'!B$26,0) -> 10 | U44: =IF(R44=TRUE,'Base de données'!B$27,0) -> 8 | V44: =IF(A44="",IF(P4<=2,52*(S44+T44+U44),IF(P4=3,28*(S44+T44+U44),IF(Q37=1,28*(S44+T44+U44),52*(S44+T44+U44)))),A44*S44+A44*T44+A44*U44) -> 602
C45: =IF(A45="", " 0 samedi 2", " samedis 2") -> 0 samedi 2 | E45: petit-déjeuner | H45: repas de midi | K45: repas du soir | P45: FALSE | Q45: FALSE | R45: FALSE | S45: =IF(P45=TRUE,'Base de données'!B$25,0) -> 0 | T45: =IF(Q45=TRUE,'Base de données'!B$26,0) -> 0 | U45: =IF(R45=TRUE,'Base de données'!B$27,0) -> 0 | V45: =IF(A45="",0,A45*S45+A45*T45+A45*U45) -> 0
C46: =IF(A46="",IF(P4<=2," 52 dimanches 1",IF(P4=3," 28 dimanches 1",IF(Q37=1," 28 dimanches 1"," 52 dimanches 1")))," dimanches 1") -> 28 dimanches 1 | E46: petit-déjeuner | H46: repas de midi | K46: repas du soir | P46: TRUE | Q46: TRUE | R46: TRUE | S46: =IF(P46=TRUE,'Base de données'!B$25,0) -> 3.5 | T46: =IF(Q46=TRUE,'Base de données'!B$26,0) -> 10 | U46: =IF(R46=TRUE,'Base de données'!B$27,0) -> 8 | V46: =IF(A46="",IF(P4<=2,52*(S46+T46+U46),IF(P4=3,28*(S46+T46+U46),IF(Q37=1,28*(S46+T46+U46),52*(S46+T46+U46)))),A46*S46+A46*T46+A46*U46) -> 602
C47: =IF(A47="", " 0 dimanche 2", " dimanches 2") -> 0 dimanche 2 | E47: petit-déjeuner | H47: repas de midi | K47: repas du soir | P47: FALSE | Q47: FALSE | R47: FALSE | S47: =IF(P47=TRUE,'Base de données'!B$25,0) -> 0 | T47: =IF(Q47=TRUE,'Base de données'!B$26,0) -> 0 | U47: =IF(R47=TRUE,'Base de données'!B$27,0) -> 0 | V47: =IF(A47="",0,A47*S47+A47*T47+A47*U47) -> 0
A49: Jours de vacances
C51: =IF(A51="", P41, " jours") -> 11 jours | E51: petit-déjeuner | H51: repas de midi | K51: repas du soir | P51: TRUE | Q51: TRUE | R51: TRUE | S51: =IF(P51=TRUE,'Base de données'!B$25,0) -> 3.5 | T51: =IF(Q51=TRUE,'Base de données'!B$26,0) -> 10 | U51: =IF(R51=TRUE,'Base de données'!B$27,0) -> 8 | V51: =IF(A51="",Q41*(S51+T51+U51),A51*S51+A51*T51+A51*U51) -> 236.5
...

Sheet Décompte salaire
A4: Décompte de salaire | G4: Décompte de salaire
A7: Salaire pour : | B7: …………………………………………… | G7: Salaire pour : | H7: ……………………………………………
A9: Période de travail du … au … : | D9: ………………………. | G9: Période de travail du … au … : | J9: ……………………….
A11: Jours de vacances / congé : | C11: …………………………. | G11: Jours de vacances / congé : | I11: ………………………….
A14: Salaire brut | E14: =IF(ISNUMBER(Saisie!D20)=TRUE,Saisie!D20,"") -> 1025 | G14: Salaire brut | K14: =IF(ISNUMBER(E14)=TRUE,E14,"") -> 1025
A16: Déductions : | G16: Déductions :
A17: =CONCATENATE(" - Déductions AVS (",Saisie!U19*100,"%)") -> - Déductions AVS (6.4%) | D17: =IF(Saisie!P28=1,IF(ISNUMBER(E14)=TRUE,ROUND(Saisie!U19*E14,10),""),"") -> 65.6 | G17: =A17 -> - Déductions AVS (6.4%) | J17: =IF(K14=E14,D17,ROUND(Saisie!U19*K14,10)) -> 65.6
A18: =CONCATENATE(" - Déductions LAA (",Saisie!U20*100,"%)") -> - Déductions LAA (1.681%) | D18: =IF(Saisie!Q28=1,IF(ISNUMBER(E14)=TRUE,ROUND(Saisie!U20*E14,10),""),"") | G18: =A18 -> - Déductions LAA (1.681%) | J18: =IF(K14=E14,D18,ROUND(Saisie!U20*K14,10))
A19: =CONCATENATE(" - Déductions IMJ (",Saisie!U21*100,"%)") -> - Déductions IMJ (0.44%) | D19: =IF(Saisie!R28=1,IF(ISNUMBER(E14)=TRUE,ROUND(Saisie!U21*E14,10),""),"") | G19: =A19 -> - Déductions IMJ (0.44%) | J19: =IF(K14=E14,D19,ROUND(Saisie!U21*K14,10))
A20: - Salaire en nature | D20: =IF(ISNUMBER(E14)=TRUE,IF(ISNUMBER(Saisie!E33)=TRUE,IF(Saisie!E33=0,"",Saisie!E33),""),"") -> 533.07692 | G20: - Salaire en nature | J20: =IF(ISNUMBER(D20)=TRUE,D20,"") -> 533.07692
A21: - Divers | D21: =IF(ISNUMBER(E14)=TRUE,IF(ISNUMBER(Saisie!N28)=TRUE,Saisie!N28,""),"") | G21: - Divers | J21: =IF(ISNUMBER(D21)=TRUE,D21,"")
A22: Total déductions | D22: =IF(COUNTBLANK(D17:D21)=5,"",SUM(D17:D21)) -> 598.67692 | E22: =D22 -> 598.67692 | G22: Total déductions | J22: =IF(COUNTBLANK(J17:J21)=5,"",SUM(J17:J21)) -> 598.67692 | K22: =IF(ISNUMBER(J22)=TRUE,J22,"") -> 598.67692
A24: Indemnités de pension | E24: =IF(ISNUMBER(E14)=TRUE,IF(ISNUMBER(Saisie!E34)=TRUE,IF(Saisie!E34=0,"",Saisie!E34),""),"") -> 130.79167 | G24: Indemnités de pension | K24: =IF(ISNUMBER(E24)=TRUE,E24,"") -> 130.79167
A25: Salaire net | E25: =IF(ISNUMBER(E24)=TRUE,IF(ISNUMBER(E22)=TRUE,(E14-E22+E24),(E14+E24)),IF(ISNUMBER(E22)=TRUE,(E14-E22),E14)) -> 557.11474 | G25: Salaire net | K25: =IF(ISNUMBER(K24)=TRUE,IF(ISNUMBER(K22)=TRUE,(K14-K22+K24),(K14+K24)),IF(ISNUMBER(K22)=TRUE,(K14-K22),K14)) -> 557.11474
A28: Montant reçu : | B28: =E25 -> 557.11474 | D28: Date : | G28: Montant reçu : | H28: =K25 -> 557.11474 | J28: Date :
D30: Signature : | J30: Signature :
A32: =IF(ISNUMBER(E14)=TRUE,IF(E14<21150/12,"","Attention, ce salaire sera soumis aux cotisations du 2ème pilier. Les calculs doivent être adaptés en conséquence !"),"")

Sheet Lohnabrechnung
A4: Lohnabrechnung | H4: Lohnabrechnung
A7: Lohn für: | B7: …………………………………………………. | H7: Lohn für: | I7: ………………………………………………….
A9: Arbeitszeit vom … bis …: | D9: ……………………………… | H9: Arbeitszeit vom … bis …: | K9: ………………………………
A11: Ferien- und Freitagen: | C11: ………………………………….. | H11: Ferien- und Freitagen: | J11: …………………………………..
A14: Bruttolohn | F14: =IF(ISNUMBER(Saisie!D20)=TRUE,Saisie!D20,"") -> 1025 | H14: Bruttolohn | M14: =IF(ISNUMBER(F14)=TRUE,F14,"") -> 1025
A16: Abzüge: | H16: Abzüge:
A17: =CONCATENATE(" - Abzüge AHV (",Saisie!U19*100,"%)") -> - Abzüge AHV (6.4%) | E17: =IF(Saisie!P28=1,IF(ISNUMBER(F14)=TRUE,ROUND(Saisie!U19*F14,10),""),"") -> 65.6 | H17: =A17 -> - Abzüge AHV (6.4%) | L17: =IF(M14=F14,E17,ROUND(Saisie!U19*M14,10)) -> 65.6
A18: =CONCATENATE(" - Abzüge UVG (",Saisie!U20*100,"%)") -> - Abzüge UVG (1.681%) | E18: =IF(Saisie!Q28=1,IF(ISNUMBER(F14)=TRUE,ROUND(Saisie!U20*F14,10),""),"") | H18: =A18 -> - Abzüge UVG (1.681%) | L18: =IF(M14=F14,E18,ROUND(Saisie!U20*M14,10))
A19: =CONCATENATE(" - Abzüge EO (",Saisie!U21*100,"%)") -> - Abzüge EO (0.44%) | E19: =IF(Saisie!R28=1,IF(ISNUMBER(F14)=TRUE,ROUND(Saisie!U21*F14,10),""),"") | H19: =A19 -> - Abzüge EO (0.44%) | L19: =IF(M14=F14,E19,ROUND(Saisie!U21*M14,10))
A20: - Naturallohn | E20: =IF(ISNUMBER(F14)=TRUE,IF(ISNUMBER(Saisie!E33)=TRUE,IF(Saisie!E33=0,"",Saisie!E33),""),"") -> 533.07692 | H20: - Naturallohn | L20: =IF(ISNUMBER(E20)=TRUE,E20,"") -> 533.07692
A21: - Diverse | E21: =IF(ISNUMBER(F14)=TRUE,IF(ISNUMBER(Saisie!N28)=TRUE,Saisie!N28,""),"") | H21: - Diverse | L21: =IF(ISNUMBER(E21)=TRUE,E21,"")
A22: Total Abzüge | E22: =IF(COUNTBLANK(E17:E21)=5,"",SUM(E17:E21)) -> 598.67692 | F22: =E22 -> 598.67692 | H22: Total Abzüge | L22: =IF(COUNTBLANK(L17:L21)=5,"",SUM(L17:L21)) -> 598.67692 | M22: =IF(ISNUMBER(L22)=TRUE,L22,"") -> 598.67692
A24: Entschädigungen | F24: =IF(ISNUMBER(F14)=TRUE,IF(ISNUMBER(Saisie!E34)=TRUE,IF(Saisie!E34=0,"",Saisie!E34),""),"") -> 130.79167 | H24: Entschädigungen | M24: =IF(ISNUMBER(F24)=TRUE,F24,"") -> 130.79167
A25: Nettolohn | F25: =IF(ISNUMBER(F24)=TRUE,IF(ISNUMBER(F22)=TRUE,(F14-F22+F24),(F14+F24)),IF(ISNUMBER(F22)=TRUE,(F14-F22),F14)) -> 557.11474 | H25: Nettolohn | M25: =IF(ISNUMBER(M24)=TRUE,IF(ISNUMBER(M22)=TRUE,(M14-M22+M24),(M14+M24)),IF(ISNUMBER(M22)=TRUE,(M14-M22),M14)) -> 557.11474
A28: Ausb. Betrag: | B28: =F25 -> 557.11474 | E28: Datum: | H28: Ausb. Betrag: | I28: =M25 -> 557.11474 | L28: Datum:
E30: Unterschrift: | L30: Unterschrift:
B32: =IF(ISNUMBER(F14)=TRUE,IF(F14<21150/12,"","Achtung, mit diesem Lohn ist 2. Säule obligatorisch. Berechnungen müssen angepasst werden!"),"")

Sheet Libre
M1: Attention, les cotisations IMJ ne sont pas les mêmes pour Berne
M2: et le Jura. Veillez choisir le canton dans l'onglet "Saisie".
A4: Décompte de salaire | G4: Décompte de salaire
A7: Salaire pour : | B7: …………………………………………… | G7: Salaire pour : | H7: ……………………………………………
A9: Période de travail du … au … : | D9: ………………………. | G9: Période de travail du … au … : | J9: ……………………….
A11: Jours de vacances / congé : | C11: …………………………. | G11: Jours de vacances / congé : | I11: ………………………….
A14: Salaire brut | G14: Salaire brut | K14: =IF(ISNUMBER(E14)=TRUE,E14,"")
A16: Déductions : | G16: Déductions :
A17: ='Décompte salaire'!A17 -> - Déductions AVS (6.4%) | D17: =IF(ISNUMBER(E14)=TRUE,ROUND(Saisie!U19*E14,10),"") | G17: =A17 -> - Déductions AVS (6.4%) | J17: =IF(K14=E14,D17,ROUND(Saisie!U19*K14,10))
A18: ='Décompte salaire'!A18 -> - Déductions LAA (1.681%) | D18: =IF(ISNUMBER(E14)=TRUE,ROUND(Saisie!U20*E14,10),"") | G18: =A18 -> - Déductions LAA (1.681%) | J18: =IF(K14=E14,D18,ROUND(Saisie!U20*K14,10))
A19: ='Décompte salaire'!A19 -> - Déductions IMJ (0.44%) | D19: =IF(ISNUMBER(E14)=TRUE,ROUND(Saisie!U21*E14,10),"") | G19: =A19 -> - Déductions IMJ (0.44%) | J19: =IF(K14=E14,D19,ROUND(Saisie!U21*K14,10))
A20: - Salaire en nature | G20: - Salaire en nature | J20: =IF(ISNUMBER(D20)=TRUE,D20,"")
A21: - Divers | G21: - Divers | J21: =IF(ISNUMBER(D21)=TRUE,D21,"")
A22: Total déductions | D22: =IF(COUNTBLANK(D17:D21)=5,"",SUM(D17:D21)) | E22: =D22 | G22: Total déductions | J22: =IF(COUNTBLANK(J17:J21)=5,"",SUM(J17:J21)) | K22: =IF(ISNUMBER(J22)=TRUE,J22,"")
A24: Indemnités de pension | G24: Indemnités de pension | K24: =IF(ISNUMBER(E24)=TRUE,E24,"")
A25: Salaire net | E25: =IF(ISNUMBER(E24)=TRUE,IF(ISNUMBER(E22)=TRUE,(E14-E22+E24),(E14+E24)),IF(ISNUMBER(E22)=TRUE,(E14-E22),"")) | G25: Salaire net | K25: =IF(ISNUMBER(K24)=TRUE,IF(ISNUMBER(K22)=TRUE,(K14-K22+K24),(K14+K24)),IF(ISNUMBER(K22)=TRUE,(K14-K22),K14))
A28: Montant reçu : | B28: =E25 | D28: Date : | G28: Montant reçu : | H28: =K25 | J28: Date :
D30: Signature : | J30: Signature :
A32: =IF(ISNUMBER(E14)=TRUE,IF(E14<21150/12,"","Attention, ce salaire sera soumis aux cotisations du 2ème pilier. Les calculs doivent être adaptés en conséquence !"),"")

Sheet Frei
O1: Attention, EO Abzüge sind nicht gleich in Bern
O2: und in Jura. Bitte wählen Sie in "Saisie".
A4: Lohnabrechnung | H4: Lohnabrechnung
A7: Lohn für: | B7: …………………………………………………. | H7: Lohn für: | I7: ………………………………………………….
A9: Arbeitszeit vom … bis …: | D9: ……………………………… | H9: Arbeitszeit vom … bis …: | K9: ………………………………
A11: Ferien- und Freitagen: | C11: ………………………………….. | H11: Ferien- und Freitagen: | J11: …………………………………..
A14: Bruttolohn | F14: 1500 | H14: Bruttolohn | M14: =IF(ISNUMBER(F14)=TRUE,F14,"") -> 1500
A16: Abzüge: | H16: Abzüge:
A17: =Lohnabrechnung!A17 -> - Abzüge AHV (6.4%) | E17: =IF(ISNUMBER(F14)=TRUE,ROUND(Saisie!U19*F14,10),"") -> 96 | H17: =A17 -> - Abzüge AHV (6.4%) | L17: =IF(M14=F14,E17,ROUND(Saisie!U19*M14,10)) -> 96
A18: =Lohnabrechnung!A18 -> - Abzüge UVG (1.681%) | E18: =IF(ISNUMBER(F14)=TRUE,ROUND(Saisie!U20*F14,10),"") -> 25.215 | H18: =A18 -> - Abzüge UVG (1.681%) | L18: =IF(M14=F14,E18,ROUND(Saisie!U20*M14,10)) -> 25.215
A19: =Lohnabrechnung!A19 -> - Abzüge EO (0.44%) | E19: =IF(ISNUMBER(F14)=TRUE,ROUND(Saisie!U21*F14,10),"") -> 6.6 | H19: =A19 -> - Abzüge EO (0.44%) | L19: =IF(M14=F14,E19,ROUND(Saisie!U21*M14,10)) -> 6.6
A20: - Naturallohn | H20: - Naturallohn | L20: =IF(ISNUMBER(E20)=TRUE,E20,"")
A21: - Diverse | H21: - Diverse | L21: =IF(ISNUMBER(E21)=TRUE,E21,"")
A22: Total Abzüge | E22: =IF(COUNTBLANK(E17:E21)=5,"",SUM(E17:E21)) -> 127.815 | F22: =E22 -> 127.815 | H22: Total Abzüge | L22: =IF(COUNTBLANK(L17:L21)=5,"",SUM(L17:L21)) -> 127.815 | M22: =IF(ISNUMBER(L22)=TRUE,L22,"") -> 127.815
A24: Entschädigungen | H24: Entschädigungen | M24: =IF(ISNUMBER(F24)=TRUE,F24,"")
A25: Nettolohn | F25: =IF(ISNUMBER(F24)=TRUE,IF(ISNUMBER(F22)=TRUE,(F14-F22+F24),(F14+F24)),IF(ISNUMBER(F22)=TRUE,(F14-F22),F14)) -> 1372.185 | H25: Nettolohn | M25: =IF(ISNUMBER(M24)=TRUE,IF(ISNUMBER(M22)=TRUE,(M14-M22+M24),(M14+M24)),IF(ISNUMBER(M22)=TRUE,(M14-M22),M14)) -> 1372.185
A28: Ausb. Betrag: | B28: =F25 -> 1372.185 | E28: Datum: | H28: Ausb. Betrag: | I28: =M25 -> 1372.185 | L28: Datum:
E30: Unterschrift: | L30: Unterschrift:
B32: =IF(ISNUMBER(F14)=TRUE,IF(F14<21150/12,"","Achtung, mit diesem Lohn ist 2. Säule obligatorisch. Berechnungen müssen angepasst werden!"),"")

Sheet Base de données
A2: Cotisations | B2: Berne | D2: Jura
B3: Part employeur | C3: Part employé | D3: Part employeur | E3: Part employé
A4: AVS, AI, APG | B4: 5.3 | C4: 5.3 | D4: 5.3 | E4: 5.3
A5: Chômage | B5: 1.1 | C5: 1.1 | D5: 1.1 | E5: 1.1
A6: LAA | B6: 3.351 | C6: 1.681 | D6: 3.351 | E6: 1.681
A7: IJM | B7: 0.325 | C7: 0.325 | D7: 0.44 | E7: 0.44
A8: Alloc. fam. | B8: 2 | C8: 0 | D8: 2 | E8: 0
A9: Frais admin. | B9: 2.5 | C9: 0 | D9: 2.5 | E9: 0
A12: Revenu horaire
A14: 1ère année | B14: 7
A15: 2ème année | B15: 8
A16: 3ème année | B16: 9
A18: Heures de travail par jour
A20: BE | B20: 10
A21: JU | B21: =50/5.5 -> 9.0909091
A23: Salaire en nature
A24: Total | B24: 990
A25: Petit-déjeuner | B25: 3.5
A26: Repas de midi | B26: 10
A27: Repas du soir | B27: 8
A28: Nuitée | B28: 11.5
A30: Seuil LPP
B31: 21150
